BEGIN:VCALENDAR
VERSION:2.0
PRODID:-//wp-events-plugin.com//7.2.3.1//EN
TZID:Europe/Paris
X-WR-TIMEZONE:Europe/Paris
BEGIN:VEVENT
UID:31@joinvillais.com
DTSTART;TZID=Europe/Paris:20200328T093000
DTEND;TZID=Europe/Paris:20200328T120000
DTSTAMP:20200322T075347Z
URL:https://www.joinvillais.com/agenda/assemblee-generale-ordinaire-comite
 -occitanie/
SUMMARY:AG - Comité Occitanie - Reportée ultérieurement
DESCRIPTION:\nDate: samedi 28 mars 2020\n\nHoraire: 09h30 à 12h00\nLieu: C
 ROS  - 7\, rue André Citroën 31130 Balma\nRepas: Restaurant "Les Feuill
 antines - 101 Route de Gaure\, 31130 Balma
LOCATION:CROS OCCITANIE\, 7\, rue André Citroën\, Balma\, 31130\, Occitan
 ie\, France
X-APPLE-STRUCTURED-LOCATION;VALUE=URI;X-ADDRESS=7\, rue André Citroën\, B
 alma\, 31130\, Occitanie\, France;X-APPLE-RADIUS=100;X-TITLE=CROS OCCITANI
 E:geo:0,0
END:VEVENT
BEGIN:VTIMEZONE
TZID:Europe/Paris
X-LIC-LOCATION:Europe/Paris
BEGIN:STANDARD
DTSTART:20191027T020000
TZOFFSETFROM:+0200
TZOFFSETTO:+0100
TZNAME:CET
END:STANDARD
END:VTIMEZONE
END:VCALENDAR